Workbook

Sheet SUTI Individual
H1: A1 SINGLE CITY
H2: ENTER CITY DATA HERE
A3: # | B3: Indicators | C3: Natural | D3: Weights | E3: Normalization | H3: 2010
C4: units | E4: MIN | F4: MAX | H4: Jakarta
A5: 1 | B5: Extent to which transport plans cover facilities for active modes and public transport | C5: 0 - 16 scale | D5: 0.1 | E5: 0 | F5: 16 | H5: =Jakarta!D12 -> 9
A6: 2 | B6: Modal share of active and public transport in commuting | C6: Trips | D6: 0.1 | E6: 10 | F6: 90 | H6: =Jakarta!D23 -> 15.2
A7: 3 | B7: Convenient access to public transport service | C7: Number of people | D7: 0.1 | E7: 20 | F7: 100 | H7: =Jakarta!D27 -> 70
A8: 4 | B8: User satisfaction with public transport service | C8: % satisfied | D8: 0.1 | E8: 30 | F8: 95 | H8: =Jakarta!D31 -> 45
A9: 5 | B9: Traffic fatalities per 100.000 inhabitants | C9: # fatalities | D9: 0.1 | E9: 0 | F9: 35 | H9: =Jakarta!D35 -> 21
A10: 6 | B10: Affordability – travel costs as part of income | C10: % of income | D10: 0.1 | E10: 35 | F10: 3.5 | H10: =Jakarta!D39 -> 20
A11: 7 | B11: Operational costs of the public transport system | C11: Cost recovery ratio | D11: 0.1 | E11: 22 | F11: 175 | H11: =Jakarta!D43 -> 70
A12: 8 | B12: Investment in public transportation systems | C12: Share of total investment | D12: 0.1 | E12: 0 | F12: 50 | H12: =Jakarta!D47 -> 40
A13: 9 | B13: Air quality (pm10) | C13: μg/m3 | D13: 0.1 | E13: 150 | F13: 10 | H13: =Jakarta!D51 -> 38
A14: 10 | B14: Greenhouse gas emissions from transport | C14: Tons | D14: 0.1 | E14: 2.75 | F14: 0 | H14: =Jakarta!D55 -> 0.5
B15: MUST SUM TO 1 | D15: =SUM(D5:D14) -> 1
H17: B1 NORMALIZATION SINGLE CITY
A18: # | B18: Indicators | C18: Natural | D18: Weights | E18: Normalization | H18: 2010
C19: units | E19: MIN | F19: MAX | H19: Jakarta
A20: 1 | B20: Extent to which transport plans cover facilities for active modes and public transport | C20: 0 - 16 scale | D20: 0.1 | E20: 0 | F20: 16 | H20: =(H5-$E5)/($F5-$E5)*100 -> 56.25
A21: 2 | B21: Modal share of active and public transport in commuting | C21: Trips | D21: 0.1 | E21: 10 | F21: 90 | H21: =(H6-$E6)/($F6-$E6)*100 -> 6.5
A22: 3 | B22: Convenient access to public transport service | C22: Number of people | D22: 0.1 | E22: 20 | F22: 100 | H22: =(H7-$E7)/($F7-$E7)*100 -> 62.5
A23: 4 | B23: User satisfaction with public transport service | C23: % satisfied | D23: 0.1 | E23: 30 | F23: 95 | H23: =(H8-$E8)/($F8-$E8)*100 -> 23.076923
A24: 5 | B24: Traffic fatalities per 100.000 inhabitants | C24: # fatalities | D24: 0.1 | E24: 0 | F24: 35 | H24: =(H9-$E9)/($F9-$E9)*100 -> 60
A25: 6 | B25: Affordability – travel costs as part of income | C25: % of income | D25: 0.1 | E25: 35 | F25: 3.5 | H25: =(H10-$E10)/($F10-$E10)*100 -> 47.619048
A26: 7 | B26: Operational costs of the public transport system | C26: Cost recovery ratio | D26: 0.1 | E26: 22 | F26: 175 | H26: =(H11-$E11)/($F11-$E11)*100 -> 31.372549
A27: 8 | B27: Investment in public transportation systems | C27: Share of total investment | D27: 0.1 | E27: 0 | F27: 50 | H27: =(H12-$E12)/($F12-$E12)*100 -> 80
A28: 9 | B28: Air quality (pm10) | C28: μg/m3 | D28: 0.1 | E28: 150 | F28: 10 | H28: =(H13-$E13)/($F13-$E13)*100 -> 80
A29: 10 | B29: Greenhouse gas emissions from transport | C29: Tons | D29: 0.1 | E29: 2.75 | F29: 0 | H29: =(H14-$E14)/($F14-$E14)*100 -> 81.818182
B30: MUST SUM TO 1 | D30: 1.0
H31: C1 RESULT SINGLE CITY
D32: INDEX | E32: Arithmetic | H32: =SUM(H20:H29)/10 -> 52.91367
D33: INDEX | E33: Arithmetic using weights | H33: =($D5*H20)+($D6*H21)+($D7*H22)+($D8*H23)+($D9*H24)+($D10*H25)+($D11*H26)+($D12*H27)+($D13*H28)+($D14*H29) -> 52.91367
D34: INDEX | E34: Geometric | H34: =(H20*H21*H22*H23*H24*H25*H26*H27*H28*H29)^(1/10) -> 43.587357
C36: D1 RESULT SPIDER DIAGRAM SINGLE CITY
B37: Extent to which transport plans cover facilities for active modes and public transport | C37: =H20 -> 56.25
B38: Modal share of active and public transport in commuting | C38: =H21 -> 6.5
B39: Convenient access to public transport service | C39: =H22 -> 62.5
B40: User satisfaction with public transport service | C40: =H23 -> 23.076923
B41: Traffic fatalities per 100.000 inhabitants | C41: =H24 -> 60
B42: Affordability – travel costs as part of income | C42: =H25 -> 47.619048
...

Sheet SUTI Multiple
I1: A2 MULTIPLE CITIES
C2: (HER ER RIGTIGE TAL DECIMALER) | I2: ENTER CITY DATA HERE
A3: # | B3: Indicators | C3: Natural | D3: Weights | E3: Normalization | I3: Year
C4: units | E4: MIN | F4: MAX | I4: Medan | J4: Denpasar
A5: 1 | B5: Extent to which transport plans cover facilities for active modes and public transport | C5: 0 - 16 scale | D5: 0.1 | E5: 0 | F5: 16 | I5: 12 | J5: 9
A6: 2 | B6: Modal share of active and public transport in commuting | C6: Trips | D6: 0.1 | E6: 10 | F6: 90 | I6: 27 | J6: 15
A7: 3 | B7: Convenient access to public transport service | C7: Number of people | D7: 0.1 | E7: 20 | F7: 100 | I7: 65 | J7: 51
A8: 4 | B8: User satisfaction with public transport service | C8: % satisfied | D8: 0.1 | E8: 30 | F8: 95 | I8: 56 | J8: 47
A9: 5 | B9: Traffic fatalities per 100.000 inhabitants | C9: # fatalities | D9: 0.1 | E9: 0 | F9: 35 | I9: 10 | J9: 8
A10: 6 | B10: Affordability – travel costs as part of income | C10: % of income | D10: 0.1 | E10: 35 | F10: 3.5 | I10: 30 | J10: 28
A11: 7 | B11: Operational costs of the public transport system | C11: Cost recovery ratio | D11: 0.1 | E11: 22 | F11: 175 | I11: 80 | J11: 67
A12: 8 | B12: Investment in public transportation systems | C12: Share of total investment | D12: 0.1 | E12: 0 | F12: 50 | I12: 18 | J12: 12
A13: 9 | B13: Air quality (pm10) | C13: μg/m3 | D13: 0.1 | E13: 150 | F13: 10 | I13: 100 | J13: 92
A14: 10 | B14: Greenhouse gas emissions from transport | C14: Tons | D14: 0.1 | E14: 2.75 | F14: 0 | I14: 1.48 | J14: 2.33
B15: MUST SUM TO 1 | D15: =SUM(D5:D14) -> 1
C17: (HER ER PUNKTUMMER TIL RAPPORT) | I17: B2 NORMALIZATION MULTIPLE CITIES
A18: # | B18: Indicators | C18: Natural | D18: Weights | E18: Normalization | I18: Year
C19: units | E19: MIN | F19: MAX | I19: City 1 ('I*) | J19: City 2 ('M')
A20: 1 | B20: Extent to which transport plans cover facilities for active modes and public transport | C20: 0 - 16 scale | D20: 0.1 | E20: 0 | F20: 16 | I20: =(I5-$E5)/($F5-$E5)*100 -> 75 | J20: =(J5-$E5)/($F5-$E5)*100 -> 56.25
A21: 2 | B21: Modal share of active and public transport in commuting | C21: Trips | D21: 0.1 | E21: 10 | F21: 90 | I21: =(I6-$E6)/($F6-$E6)*100 -> 21.25 | J21: =(J6-$E6)/($F6-$E6)*100 -> 6.25
A22: 3 | B22: Convenient access to public transport service | C22: Number of people | D22: 0.1 | E22: 20 | F22: 100 | I22: =(I7-$E7)/($F7-$E7)*100 -> 56.25 | J22: =(J7-$E7)/($F7-$E7)*100 -> 38.75
A23: 4 | B23: User satisfaction with public transport service | C23: % satisfied | D23: 0.1 | E23: 30 | F23: 95 | I23: =(I8-$E8)/($F8-$E8)*100 -> 40 | J23: =(J8-$E8)/($F8-$E8)*100 -> 26.153846
A24: 5 | B24: Traffic fatalities per 100.000 inhabitants | C24: # fatalities | D24: 0.1 | E24: 0 | F24: 35 | I24: =(I9-$E9)/($F9-$E9)*100 -> 28.571429 | J24: =(J9-$E9)/($F9-$E9)*100 -> 22.857143
A25: 6 | B25: Affordability – travel costs as part of income | C25: % of income | D25: 0.1 | E25: 35 | F25: 3.5 | I25: =(I10-$E10)/($F10-$E10)*100 -> 15.873016 | J25: =(J10-$E10)/($F10-$E10)*100 -> 22.222222
A26: 7 | B26: Operational costs of the public transport system | C26: Cost recovery ratio | D26: 0.1 | E26: 22 | F26: 175 | I26: =(I11-$E11)/($F11-$E11)*100 -> 37.908497 | J26: =(J11-$E11)/($F11-$E11)*100 -> 29.411765
A27: 8 | B27: Investment in public transportation systems | C27: Share of total investment | D27: 0.1 | E27: 0 | F27: 50 | I27: =(I12-$E12)/($F12-$E12)*100 -> 36 | J27: =(J12-$E12)/($F12-$E12)*100 -> 24
A28: 9 | B28: Air quality (pm10) | C28: μg/m3 | D28: 0.1 | E28: 150 | F28: 10 | I28: =(I13-$E13)/($F13-$E13)*100 -> 35.714286 | J28: =(J13-$E13)/($F13-$E13)*100 -> 41.428571
A29: 10 | B29: Greenhouse gas emissions from transport | C29: Tons | D29: 0.1 | E29: 2.75 | F29: 0 | I29: =(I14-$E14)/($F14-$E14)*100 -> 46.181818 | J29: =(J14-$E14)/($F14-$E14)*100 -> 15.272727
B30: MUST SUM TO 1 | D30: 1.0
I31: C2 RESULT MULTIPLE CITIES
D32: INDEX | E32: Arithmetic | I32: =SUM(I20:I29)/10 -> 39.274905 | J32: =SUM(J20:J29)/10 -> 28.259627
D33: INDEX | E33: Arithmetic using weights | I33: =($D5*I20)+($D6*I21)+($D7*I22)+($D8*I23)+($D9*I24)+($D10*I25)+($D11*I26)+($D12*I27)+($D13*I28)+($D14*I29) -> 39.274905 | J33: =($D5*J20)+($D6*J21)+($D7*J22)+($D8*J23)+($D9*J24)+($D10*J25)+($D11*J26)+($D12*J27)+($D13*J28)+($D14*J29) -> 28.259627
D34: INDEX | E34: Geometric | I34: =(I20*I21*I22*I23*I24*I25*I26*I27*I28*I29)^(1/10) -> 36.00432 | J34: =(J20*J21*J22*J23*J24*J25*J26*J27*J28*J29)^(1/10) -> 24.589903
I36: D2 RESULT OVERALL CITY RANKING (maunal) | K36: D3 RESULT SPIDER DIAGRAM MULTIPLE CITIES | L36: Kota Medan | M36: Kota Denpasar
I37: RANK | J37: Arithmetic | K37: Perencanaan Transportasi berbasis Angkutan Umum | L37: =I20 -> 75 | M37: =J20 -> 56.25
I38: 1 | J38: 69.650079 | K38: Modal Share Public Transport dan Kend Tdk Bermotor | L38: =I21 -> 21.25 | M38: =J21 -> 6.25
I39: 2 | J39: 62.732784 | K39: Akses ke Pelayanan Angkutan Umum | L39: =I22 -> 56.25 | M39: =J22 -> 38.75
I40: 3 | J40: 57.861433 | K40: Kepuasan Pengguna Angkutan Umum | L40: =I23 -> 40 | M40: =J23 -> 26.153846
I41: 4 | J41: 52.175662 | K41: Tingkat Kematian pada kecelakanaan per 100.000 penduduk | L41: =I24 -> 28.571429 | M41: =J24 -> 22.857143
I42: 5 | J42: 47.882083 | K42: Keterjangkauan - biaya terhadap pendapatan bulanan | L42: =I25 -> 15.873016 | M42: =J25 -> 22.222222
...

Sheet Jakarta
B1: ESTIMATION FROM DATA AND PERSONAL JUDGEMENT
B2: Trial: | C2: First
B3: City: | C3: JAKARTA
B6: Indicator-1
B7: Extent to which transport plans cover facilities for active modes and public transport | D7: Score
C8: I) Walking networks | D8: 3 | E8: Extensive coverage of the aspect
C9: II) Cycling networks | D9: 1 | E9: Limited coverage of the aspect
C10: III) Intermodal transfer facilities | D10: 2 | E10: Middle coverage of the aspect
C11: IV) Public Transport | D11: 3 | E11: Extensive coverage of the aspect
C12: Total | D12: =SUM(D8:D11) -> 9
B15: Indicator-2 | D15: Percentage
B16: Modal share of active and public transport in commuting | C16: Bicycle | D16: 2.6
C17: Car | D17: 13.5
C18: Motor Cycle | D18: 48.7
C19: Bus | D19: 12.9
C20: Rail | D20: 2.3
C21: Walking | D21: 20
C22: Total | D22: =SUM(D16:D21) -> 100
C23: Total Public Transport | D23: =D19+D20 -> 15.2 | E23: source: JapTrapis (JICA, 2011) | F23: Notes: the data should be updated based on the current condition. (1) the new BRT serving jabodetabek operated since 2016 (2)online taxy and public motor cycles should also be included as PT, where they have been exist since 2016 (3) increasing no of railway pax released in 2017 approaching 1 mio/day
B26: Indicator-3 | D26: Percentage
B27: Convenient access to public transport service | C27: population that has convenient access to public transport, defined as living 500 meters or less from a public transport stop with minimum 20 minute service. | D27: 70 | E27: estimation based on assumption that public transport are stop every where pax wants, while bus shelter is avg 600 meters --> need to be discussed with jakarta govt or experts
B30: Indicator-4
B31: User satisfaction with public transport service | C31: Overall share of satisfied customers | D31: 45 | E31: estimation on the assumption that by Rail satisfaction is the highest, then BRT then regular buse. Satisfaction is usually measured based on regularity and speed rather than tariff--> again need to be discussed
B34: Indicator-5
B35: Traffic fatalities per 100.000 inhabitants | C35: Fatalities in traffic (road; rail, etc.) in the urban areas per 100.000 inhabitants | D35: 21 | E35: estimation based on the assumption from total number of accidents devided by no of cars
B38: Indicator-6
B39: Affordability – travel costs as part of income | C39: Percentage of monthly income | D39: 20 | E39: estimation based on the HIS survey by JICA on 2004 where pax is catagorised by High, Med and Low income categories
B42: Indicator-7
B43: Operational costs of the public transport system | C43: % of operational costs recovered by fares | D43: 70 | E43: estimation based on the recent survey of operating cost for regular public transport. For BRT Trans jakarta is calculated from subsidy compare to revenues
B46: Indicator-8
B47: Investment in public transportation systems | C47: % of transport investment spending; running five year average | D47: 40 | E47: estimation based on the investment for BRT, LRT and MRT compared to private vehicles infrastructures such as toll roads and flyovers
B50: Indicator-9
B51: Air quality (pm10) | C51: Annual mean levels of fine particulate matter (PM10) in the air (population weighted) compared to threshold. | D51: 38 | E51: μg/m3 | F51: estimation
B54: Indicator-10
B55: Greenhouse gas emissions from transport | C55: CO2 equivalent emissions from transport by urban residents per annum per capita | D55: 0.5 | E55: Ton CO2 equivalent emitted/capita/year | F55: estimation

Sheet Bogor
B1: ESTIMATION FROM DATA AND PERSONAL JUDGEMENT
B2: Trial: | C2: First
B3: City: | C3: Bogor
B6: Indicator-1
B7: Extent to which transport plans cover facilities for active modes and public transport | D7: Score
C8: I) Walking networks | D8: 4 | E8: Extensive coverage of the aspect
C9: II) Cycling networks | D9: 3 | E9: Limited coverage of the aspect
C10: III) Intermodal transfer facilities | D10: 2 | E10: Middle coverage of the aspect
C11: IV) Public Transport | D11: 4 | E11: Extensive coverage of the aspect
C12: Total | D12: =SUM(D8:D11) -> 13
B15: Indicator-2 | D15: Percentage
B16: Modal share of active and public transport in commuting | C16: Bicycle
C17: Car | D17: 16.17
C18: Motor Cycle | D18: 50.603
C19: Bus | D19: 33.2
C20: Rail
C21: Walking
C22: Total | D22: =SUM(D16:D21) -> 99.973
C23: Total Public Transport | D23: =D19+D20 -> 33.2 | E23: source: Bogor Transportation Program, 2016 | F23: Notes: the data based on previous study which is used in BTOP as basedata
B26: Indicator-3 | D26: Percentage
B27: Convenient access to public transport service | C27: population that has convenient access to public transport, defined as living 500 meters or less from a public transport stop with minimum 20 minute service. | E27: estimation based on assumption that public transport are stop every where pax wants, while bus shelter is avg 600 meters --> need to be discussed with jakarta govt or experts
B30: Indicator-4
B31: User satisfaction with public transport service | C31: Overall share of satisfied customers | E31: estimation on the assumption that by Rail satisfaction is the highest, then BRT then regular buse. Satisfaction is usually measured based on regularity and speed rather than tariff--> again need to be discussed
B34: Indicator-5 | G34: Died | H34: Severe injury | I34: Minor injury
B35: Traffic fatalities per 100.000 inhabitants | C35: Fatalities in traffic (road; rail, etc.) in the urban areas per 100.000 inhabitants | D35: =SUM(G35:I35)/100000 -> 0.00232 | E35: estimation based on the assumption from total number of accidents devided by no of cars | G35: 38 | H35: 80 | I35: 114 | J35: Bogor in Figures, 2017
B38: Indicator-6
B39: Affordability – travel costs as part of income | C39: Percentage of monthly income | E39: estimation based on the HIS survey by JICA on 2004 where pax is catagorised by High, Med and Low income categories
B42: Indicator-7
B43: Operational costs of the public transport system | C43: % of operational costs recovered by fares | E43: estimation based on the recent survey of operating cost for regular public transport. For BRT Trans jakarta is calculated from subsidy compare to revenues
B46: Indicator-8
B47: Investment in public transportation systems | C47: % of transport investment spending; running five year average | E47: estimation based on the investment for BRT, LRT and MRT compared to private vehicles infrastructures such as toll roads and flyovers
B50: Indicator-9
B51: Air quality (pm10) | C51: Annual mean levels of fine particulate matter (PM10) in the air (population weighted) compared to threshold. | E51: μg/m3 | F51: estimation
B54: Indicator-10
B55: Greenhouse gas emissions from transport | C55: CO2 equivalent emissions from transport by urban residents per annum per capita | D55: 0.5 | E55: Ton CO2 equivalent emitted/capita/year | F55: estimation

Sheet South Tanggerang
B1: ESTIMATION FROM DATA AND PERSONAL JUDGEMENT
B2: Trial: | C2: First
B3: City: | C3: South Tanggerang
B6: Indicator-1
B7: Extent to which transport plans cover facilities for active modes and public transport | D7: Score
C8: I) Walking networks | D8: 0 | E8: Extensive coverage of the aspect
C9: II) Cycling networks | D9: 0 | E9: Limited coverage of the aspect
C10: III) Intermodal transfer facilities | D10: 2 | E10: Middle coverage of the aspect
C11: IV) Public Transport | D11: 3 | E11: Extensive coverage of the aspect
C12: Total | D12: =SUM(D8:D11) -> 5
B15: Indicator-2 | D15: Percentage
B16: Modal share of active and public transport in commuting | C16: Bicycle
C17: Car
C18: Motor Cycle
C19: Bus
C20: Rail
C21: Walking
C22: Total | D22: =SUM(D16:D21) -> 0
C23: Total Public Transport | D23: =D19+D20 -> 0 | E23: source: Bogor Transportation Program, 2016 | F23: Notes: the data based on previous study which is used in BTOP as basedata
B26: Indicator-3 | D26: Percentage
B27: Convenient access to public transport service | C27: population that has convenient access to public transport, defined as living 500 meters or less from a public transport stop with minimum 20 minute service. | E27: estimation based on assumption that public transport are stop every where pax wants, while bus shelter is avg 600 meters --> need to be discussed with jakarta govt or experts
B30: Indicator-4
B31: User satisfaction with public transport service | C31: Overall share of satisfied customers | E31: estimation on the assumption that by Rail satisfaction is the highest, then BRT then regular buse. Satisfaction is usually measured based on regularity and speed rather than tariff--> again need to be discussed
B34: Indicator-5 | G34: Died | H34: Severe injury | I34: Minor injury
B35: Traffic fatalities per 100.000 inhabitants | C35: Fatalities in traffic (road; rail, etc.) in the urban areas per 100.000 inhabitants | D35: =SUM(G35:I35)/100000 -> 0.00384 | E35: estimation based on the assumption from total number of accidents devided by no of cars | G35: 62 | H35: 122 | I35: 200 | J35: South Tanggerang in Figures, 2017
B38: Indicator-6
B39: Affordability – travel costs as part of income | C39: Percentage of monthly income | E39: estimation based on the HIS survey by JICA on 2004 where pax is catagorised by High, Med and Low income categories
B42: Indicator-7
B43: Operational costs of the public transport system | C43: % of operational costs recovered by fares | E43: estimation based on the recent survey of operating cost for regular public transport. For BRT Trans jakarta is calculated from subsidy compare to revenues
B46: Indicator-8
B47: Investment in public transportation systems | C47: % of transport investment spending; running five year average | E47: estimation based on the investment for BRT, LRT and MRT compared to private vehicles infrastructures such as toll roads and flyovers
B50: Indicator-9
B51: Air quality (pm10) | C51: Annual mean levels of fine particulate matter (PM10) in the air (population weighted) compared to threshold. | E51: μg/m3 | F51: estimation
B54: Indicator-10
B55: Greenhouse gas emissions from transport | C55: CO2 equivalent emissions from transport by urban residents per annum per capita | E55: Ton CO2 equivalent emitted/capita/year | F55: estimation

Sheet City of Tanggerang
B1: ESTIMATION FROM DATA AND PERSONAL JUDGEMENT
B2: Trial: | C2: First
B3: City: | C3: Bekasi
B6: Indicator-1
B7: Extent to which transport plans cover facilities for active modes and public transport | D7: Score
C8: I) Walking networks | D8: 2 | E8: Extensive coverage of the aspect
C9: II) Cycling networks | D9: 0 | E9: Limited coverage of the aspect
C10: III) Intermodal transfer facilities | D10: 0 | E10: Middle coverage of the aspect
C11: IV) Public Transport | D11: 3 | E11: Extensive coverage of the aspect | F11: notes: The city also have public transport minimum standard regulation
C12: Total | D12: =SUM(D8:D11) -> 5
B15: Indicator-2 | D15: Percentage
B16: Modal share of active and public transport in commuting | C16: Bicycle
C17: Car
C18: Motor Cycle
C19: Bus
C20: Rail
C21: Walking
C22: Total | D22: =SUM(D16:D21) -> 0
C23: Total Public Transport | D23: =D19+D20 -> 0 | E23: source: Bogor Transportation Program, 2016 | F23: Notes: the data based on previous study which is used in BTOP as basedata
B26: Indicator-3 | D26: Percentage
B27: Convenient access to public transport service | C27: population that has convenient access to public transport, defined as living 500 meters or less from a public transport stop with minimum 20 minute service. | E27: estimation based on assumption that public transport are stop every where pax wants, while bus shelter is avg 600 meters --> need to be discussed with jakarta govt or experts
B30: Indicator-4
B31: User satisfaction with public transport service | C31: Overall share of satisfied customers | E31: estimation on the assumption that by Rail satisfaction is the highest, then BRT then regular buse. Satisfaction is usually measured based on regularity and speed rather than tariff--> again need to be discussed
B34: Indicator-5 | G34: Died | H34: Severe injury | I34: Minor injury
B35: Traffic fatalities per 100.000 inhabitants | C35: Fatalities in traffic (road; rail, etc.) in the urban areas per 100.000 inhabitants | D35: =SUM(G35:I35)/100000 -> 0 | E35: estimation based on the assumption from total number of accidents devided by no of cars | J35: Tanggerang in Figures, 2017
B38: Indicator-6
B39: Affordability – travel costs as part of income | C39: Percentage of monthly income | E39: estimation based on the HIS survey by JICA on 2004 where pax is catagorised by High, Med and Low income categories
B42: Indicator-7
B43: Operational costs of the public transport system | C43: % of operational costs recovered by fares | E43: estimation based on the recent survey of operating cost for regular public transport. For BRT Trans jakarta is calculated from subsidy compare to revenues
B46: Indicator-8
B47: Investment in public transportation systems | C47: % of transport investment spending; running five year average | E47: estimation based on the investment for BRT, LRT and MRT compared to private vehicles infrastructures such as toll roads and flyovers
B50: Indicator-9
B51: Air quality (pm10) | C51: Annual mean levels of fine particulate matter (PM10) in the air (population weighted) compared to threshold. | E51: μg/m3 | F51: estimation
B54: Indicator-10
B55: Greenhouse gas emissions from transport | C55: CO2 equivalent emissions from transport by urban residents per annum per capita | E55: Ton CO2 equivalent emitted/capita/year | F55: estimation

Sheet City of Bekasi
B1: ESTIMATION FROM DATA AND PERSONAL JUDGEMENT
B2: Trial: | C2: First
B3: City: | C3: Bekasi
B6: Indicator-1
B7: Extent to which transport plans cover facilities for active modes and public transport | D7: Score
C8: I) Walking networks | D8: 2 | E8: Extensive coverage of the aspect
C9: II) Cycling networks | D9: 2 | E9: Limited coverage of the aspect
C10: III) Intermodal transfer facilities | D10: 1 | E10: Middle coverage of the aspect
C11: IV) Public Transport | D11: 4 | E11: Extensive coverage of the aspect | F11: notes: The city also have public transport minimum standard regulation
C12: Total | D12: =SUM(D8:D11) -> 9
B15: Indicator-2 | D15: Percentage
B16: Modal share of active and public transport in commuting | C16: Bicycle
C17: Car
C18: Motor Cycle
C19: Bus
C20: Rail
C21: Walking
C22: Total | D22: =SUM(D16:D21) -> 0
C23: Total Public Transport | D23: =D19+D20 -> 0 | E23: source: Bogor Transportation Program, 2016 | F23: Notes: the data based on previous study which is used in BTOP as basedata
B26: Indicator-3 | D26: Percentage
B27: Convenient access to public transport service | C27: population that has convenient access to public transport, defined as living 500 meters or less from a public transport stop with minimum 20 minute service. | E27: estimation based on assumption that public transport are stop every where pax wants, while bus shelter is avg 600 meters --> need to be discussed with jakarta govt or experts
B30: Indicator-4
B31: User satisfaction with public transport service | C31: Overall share of satisfied customers | E31: estimation on the assumption that by Rail satisfaction is the highest, then BRT then regular buse. Satisfaction is usually measured based on regularity and speed rather than tariff--> again need to be discussed
B34: Indicator-5 | G34: Died | H34: Severe injury | I34: Minor injury
B35: Traffic fatalities per 100.000 inhabitants | C35: Fatalities in traffic (road; rail, etc.) in the urban areas per 100.000 inhabitants | D35: =SUM(G35:I35)/100000 -> 0.00384 | E35: estimation based on the assumption from total number of accidents devided by no of cars | G35: 62 | H35: 122 | I35: 200 | J35: Bekasi in Figures, 2017
B38: Indicator-6
B39: Affordability – travel costs as part of income | C39: Percentage of monthly income | E39: estimation based on the HIS survey by JICA on 2004 where pax is catagorised by High, Med and Low income categories
B42: Indicator-7
B43: Operational costs of the public transport system | C43: % of operational costs recovered by fares | E43: estimation based on the recent survey of operating cost for regular public transport. For BRT Trans jakarta is calculated from subsidy compare to revenues
B46: Indicator-8
B47: Investment in public transportation systems | C47: % of transport investment spending; running five year average | E47: estimation based on the investment for BRT, LRT and MRT compared to private vehicles infrastructures such as toll roads and flyovers
B50: Indicator-9
B51: Air quality (pm10) | C51: Annual mean levels of fine particulate matter (PM10) in the air (population weighted) compared to threshold. | E51: μg/m3 | F51: estimation
B54: Indicator-10
B55: Greenhouse gas emissions from transport | C55: CO2 equivalent emissions from transport by urban residents per annum per capita | E55: Ton CO2 equivalent emitted/capita/year | F55: estimation
